Package: MultiDataSet Version: 1.34.0 Command: rm -rf MultiDataSet.buildbin-libdir && mkdir MultiDataSet.buildbin-libdir && F:\biocbuild\bbs-3.20-bioc\R\bin\R.exe CMD INSTALL --build --library=MultiDataSet.buildbin-libdir MultiDataSet_1.34.0.tar.gz StartedAt: 2025-01-31 09:08:20 -0500 (Fri, 31 Jan 2025) EndedAt: 2025-01-31 09:09:23 -0500 (Fri, 31 Jan 2025) EllapsedTime: 62.9 seconds RetCode: 0 Status: OK PackageFile: MultiDataSet_1.34.0.zip PackageFileSize: 876.2 KiB