Package: MultiDataSet Version: 1.34.0 Command: /home/biocbuild/R/R/bin/R CMD build --keep-empty-dirs --no-resave-data MultiDataSet StartedAt: 2025-01-31 01:13:57 -0000 (Fri, 31 Jan 2025) EndedAt: 2025-01-31 01:15:02 -0000 (Fri, 31 Jan 2025) EllapsedTime: 65.0 seconds RetCode: 0 Status: OK PackageFile: MultiDataSet_1.34.0.tar.gz PackageFileSize: 544.2 KiB