Package: MultiDataSet Version: 1.34.0 Command: /home/biocbuild/R/R/bin/R CMD check --install=check:MultiDataSet.install-out.txt --library=/home/biocbuild/R/R/site-library --no-vignettes --timings MultiDataSet_1.34.0.tar.gz StartedAt: 2025-01-31 08:31:06 -0000 (Fri, 31 Jan 2025) EndedAt: 2025-01-31 08:34:32 -0000 (Fri, 31 Jan 2025) EllapsedTime: 205.3 seconds RetCode: 0 Status: WARNINGS CheckDir: MultiDataSet.Rcheck Warnings: 1