Package: MultiDataSet Version: 1.34.0 Command: /home/biocbuild/bbs-3.20-bioc/R/bin/R CMD check --install=check:MultiDataSet.install-out.txt --library=/home/biocbuild/bbs-3.20-bioc/R/site-library --timings MultiDataSet_1.34.0.tar.gz StartedAt: 2024-11-20 06:25:43 -0500 (Wed, 20 Nov 2024) EndedAt: 2024-11-20 06:28:59 -0500 (Wed, 20 Nov 2024) EllapsedTime: 196.1 seconds RetCode: 0 Status: WARNINGS CheckDir: MultiDataSet.Rcheck Warnings: 1