Package: MultiRNAflow Version: 1.4.0 Command: /Library/Frameworks/R.framework/Resources/bin/R CMD check --install=check:MultiRNAflow.install-out.txt --library=/Library/Frameworks/R.framework/Resources/library --no-vignettes --timings MultiRNAflow_1.4.0.tar.gz StartedAt: 2025-02-05 03:24:26 -0500 (Wed, 05 Feb 2025) EndedAt: 2025-02-05 03:35:42 -0500 (Wed, 05 Feb 2025) EllapsedTime: 675.7 seconds RetCode: 0 Status: OK CheckDir: MultiRNAflow.Rcheck Warnings: 0