Package: MultiRNAflow Version: 1.4.0 Command: rm -rf MultiRNAflow.buildbin-libdir && mkdir MultiRNAflow.buildbin-libdir && /Users/biocbuild/BBS/utils/build-universal.sh MultiRNAflow_1.4.0.tar.gz /Library/Frameworks/R.framework/Resources/bin/R MultiRNAflow.buildbin-libdir StartedAt: 2025-02-04 13:35:08 -0500 (Tue, 04 Feb 2025) EndedAt: 2025-02-04 13:37:50 -0500 (Tue, 04 Feb 2025) EllapsedTime: 161.2 seconds RetCode: 0 Status: OK PackageFile: MultiRNAflow_1.4.0.tgz PackageFileSize: 3.026 MiB