Package: MultiRNAflow Version: 1.4.0 Command: /Library/Frameworks/R.framework/Resources/bin/R CMD build --keep-empty-dirs --no-resave-data MultiRNAflow StartedAt: 2025-02-03 20:45:28 -0500 (Mon, 03 Feb 2025) EndedAt: 2025-02-03 20:59:45 -0500 (Mon, 03 Feb 2025) EllapsedTime: 856.7 seconds RetCode: 0 Status: OK PackageFile: MultiRNAflow_1.4.0.tar.gz PackageFileSize: 3.142 MiB