Package: MultiRNAflow Version: 1.4.0 Command: /Library/Frameworks/R.framework/Resources/bin/R CMD INSTALL MultiRNAflow StartedAt: 2025-02-03 16:48:23 -0500 (Mon, 03 Feb 2025) EndedAt: 2025-02-03 16:50:15 -0500 (Mon, 03 Feb 2025) EllapsedTime: 111.7 seconds RetCode: 0 Status: OK