Package: MultiRNAflow Version: 1.4.0 Command: /home/biocbuild/bbs-3.20-bioc/R/bin/R CMD build --keep-empty-dirs --no-resave-data --md5 MultiRNAflow StartedAt: 2025-02-10 18:18:28 -0500 (Mon, 10 Feb 2025) EndedAt: 2025-02-10 18:23:15 -0500 (Mon, 10 Feb 2025) EllapsedTime: 287.3 seconds RetCode: 0 Status: OK PackageFile: MultiRNAflow_1.4.0.tar.gz PackageFileSize: 3.15 MiB