Package: MultiRNAflow Version: 1.4.0 Command: /home/biocbuild/bbs-3.20-bioc/R/bin/R CMD INSTALL MultiRNAflow StartedAt: 2025-02-03 16:08:58 -0500 (Mon, 03 Feb 2025) EndedAt: 2025-02-03 16:09:46 -0500 (Mon, 03 Feb 2025) EllapsedTime: 47.9 seconds RetCode: 0 Status: OK