Package: MultiRNAflow Version: 1.4.0 Command: /home/biocbuild/R/R/bin/R CMD INSTALL MultiRNAflow StartedAt: 2025-02-10 21:08:23 -0000 (Mon, 10 Feb 2025) EndedAt: 2025-02-10 21:09:16 -0000 (Mon, 10 Feb 2025) EllapsedTime: 52.8 seconds RetCode: 0 Status: OK