Package: MultimodalExperiment Version: 1.6.0 Command: rm -rf MultimodalExperiment.buildbin-libdir && mkdir MultimodalExperiment.buildbin-libdir && /Users/biocbuild/BBS/utils/build-universal.sh MultimodalExperiment_1.6.0.tar.gz /Library/Frameworks/R.framework/Resources/bin/R MultimodalExperiment.buildbin-libdir StartedAt: 2025-02-01 15:57:01 -0500 (Sat, 01 Feb 2025) EndedAt: 2025-02-01 15:57:40 -0500 (Sat, 01 Feb 2025) EllapsedTime: 39.3 seconds RetCode: 0 Status: OK PackageFile: MultimodalExperiment_1.6.0.tgz PackageFileSize: 4.295 MiB