Package: MultimodalExperiment Version: 1.6.0 Command: /Library/Frameworks/R.framework/Resources/bin/R CMD build --keep-empty-dirs --no-resave-data MultimodalExperiment StartedAt: 2025-01-31 04:13:55 -0500 (Fri, 31 Jan 2025) EndedAt: 2025-01-31 04:14:50 -0500 (Fri, 31 Jan 2025) EllapsedTime: 55.4 seconds RetCode: 0 Status: OK PackageFile: MultimodalExperiment_1.6.0.tar.gz PackageFileSize: 2.532 MiB