Package: MultimodalExperiment Version: 1.6.0 Command: /Library/Frameworks/R.framework/Resources/bin/R CMD check --install=check:MultimodalExperiment.install-out.txt --library=/Library/Frameworks/R.framework/Resources/library --no-vignettes --timings MultimodalExperiment_1.6.0.tar.gz StartedAt: 2025-02-01 02:42:00 -0500 (Sat, 01 Feb 2025) EndedAt: 2025-02-01 02:45:17 -0500 (Sat, 01 Feb 2025) EllapsedTime: 197.7 seconds RetCode: 0 Status: OK CheckDir: MultimodalExperiment.Rcheck Warnings: 0