Package: MultimodalExperiment Version: 1.6.0 Command: /Library/Frameworks/R.framework/Resources/bin/R CMD build --keep-empty-dirs --no-resave-data MultimodalExperiment StartedAt: 2025-01-30 21:16:09 -0500 (Thu, 30 Jan 2025) EndedAt: 2025-01-30 21:18:15 -0500 (Thu, 30 Jan 2025) EllapsedTime: 125.8 seconds RetCode: 0 Status: OK PackageFile: MultimodalExperiment_1.6.0.tar.gz PackageFileSize: 2.532 MiB