Package: MultimodalExperiment Version: 1.6.0 Command: F:\biocbuild\bbs-3.20-bioc\R\bin\R.exe CMD INSTALL MultimodalExperiment StartedAt: 2025-01-30 16:01:47 -0500 (Thu, 30 Jan 2025) EndedAt: 2025-01-30 16:03:48 -0500 (Thu, 30 Jan 2025) EllapsedTime: 120.8 seconds RetCode: 0 Status: OK