Package: MultimodalExperiment Version: 1.6.0 Command: /home/biocbuild/R/R/bin/R CMD build --keep-empty-dirs --no-resave-data MultimodalExperiment StartedAt: 2025-01-31 01:14:33 -0000 (Fri, 31 Jan 2025) EndedAt: 2025-01-31 01:15:25 -0000 (Fri, 31 Jan 2025) EllapsedTime: 52.0 seconds RetCode: 0 Status: OK PackageFile: MultimodalExperiment_1.6.0.tar.gz PackageFileSize: 2.554 MiB