Package: MultimodalExperiment Version: 1.6.0 Command: /home/biocbuild/R/R/bin/R CMD INSTALL MultimodalExperiment StartedAt: 2025-01-30 20:17:53 -0000 (Thu, 30 Jan 2025) EndedAt: 2025-01-30 20:18:28 -0000 (Thu, 30 Jan 2025) EllapsedTime: 35.1 seconds RetCode: 0 Status: OK