Package: MungeSumstats Version: 1.14.1 Command: /Library/Frameworks/R.framework/Resources/bin/R CMD build --keep-empty-dirs --no-resave-data MungeSumstats StartedAt: 2025-02-04 04:23:35 -0500 (Tue, 04 Feb 2025) EndedAt: 2025-02-04 04:25:16 -0500 (Tue, 04 Feb 2025) EllapsedTime: 100.6 seconds RetCode: 0 Status: OK PackageFile: MungeSumstats_1.14.1.tar.gz PackageFileSize: 2.371 MiB