Package: MungeSumstats Version: 1.14.1 Command: /Library/Frameworks/R.framework/Resources/bin/R CMD check --install=check:MungeSumstats.install-out.txt --library=/Library/Frameworks/R.framework/Resources/library --no-vignettes --timings MungeSumstats_1.14.1.tar.gz StartedAt: 2025-02-12 02:53:15 -0500 (Wed, 12 Feb 2025) EndedAt: 2025-02-12 03:10:08 -0500 (Wed, 12 Feb 2025) EllapsedTime: 1012.8 seconds RetCode: 0 Status: OK CheckDir: MungeSumstats.Rcheck Warnings: 0