Package: MungeSumstats Version: 1.14.1 Command: /Library/Frameworks/R.framework/Resources/bin/R CMD INSTALL MungeSumstats StartedAt: 2025-02-03 16:12:53 -0500 (Mon, 03 Feb 2025) EndedAt: 2025-02-03 16:13:43 -0500 (Mon, 03 Feb 2025) EllapsedTime: 49.9 seconds RetCode: 0 Status: OK