Package: MungeSumstats Version: 1.14.1 Command: chmod a+r MungeSumstats -R && F:\biocbuild\bbs-3.20-bioc\R\bin\R.exe CMD build --keep-empty-dirs --no-resave-data MungeSumstats StartedAt: 2025-01-30 20:28:02 -0500 (Thu, 30 Jan 2025) EndedAt: 2025-01-30 20:29:56 -0500 (Thu, 30 Jan 2025) EllapsedTime: 114.3 seconds RetCode: 0 Status: OK PackageFile: MungeSumstats_1.14.1.tar.gz PackageFileSize: 2.37 MiB