Package: NADfinder Version: 1.30.0 Command: rm -rf NADfinder.buildbin-libdir && mkdir NADfinder.buildbin-libdir && /Users/biocbuild/BBS/utils/build-universal.sh NADfinder_1.30.0.tar.gz /Library/Frameworks/R.framework/Resources/bin/R NADfinder.buildbin-libdir StartedAt: 2025-02-05 16:54:35 -0500 (Wed, 05 Feb 2025) EndedAt: 2025-02-05 16:56:07 -0500 (Wed, 05 Feb 2025) EllapsedTime: 92.2 seconds RetCode: 0 Status: OK PackageFile: NADfinder_1.30.0.tgz PackageFileSize: 6.472 MiB