Package: NADfinder Version: 1.30.0 Command: /Library/Frameworks/R.framework/Resources/bin/R CMD build --keep-empty-dirs --no-resave-data NADfinder StartedAt: 2025-02-04 04:32:08 -0500 (Tue, 04 Feb 2025) EndedAt: 2025-02-04 04:35:36 -0500 (Tue, 04 Feb 2025) EllapsedTime: 208.8 seconds RetCode: 0 Status: OK PackageFile: NADfinder_1.30.0.tar.gz PackageFileSize: 6.013 MiB