Package: NADfinder Version: 1.30.0 Command: /Library/Frameworks/R.framework/Resources/bin/R CMD INSTALL NADfinder StartedAt: 2025-02-03 17:28:21 -0500 (Mon, 03 Feb 2025) EndedAt: 2025-02-03 17:29:45 -0500 (Mon, 03 Feb 2025) EllapsedTime: 83.4 seconds RetCode: 0 Status: OK