Package: NADfinder Version: 1.30.0 Command: chmod a+r NADfinder -R && F:\biocbuild\bbs-3.20-bioc\R\bin\R.exe CMD build --keep-empty-dirs --no-resave-data NADfinder StartedAt: 2025-02-10 20:40:02 -0500 (Mon, 10 Feb 2025) EndedAt: 2025-02-10 20:43:39 -0500 (Mon, 10 Feb 2025) EllapsedTime: 216.9 seconds RetCode: 0 Status: OK PackageFile: NADfinder_1.30.0.tar.gz PackageFileSize: 5.677 MiB