Package: NADfinder Version: 1.30.0 Command: /home/biocbuild/R/R/bin/R CMD build --keep-empty-dirs --no-resave-data NADfinder StartedAt: 2025-02-04 01:20:23 -0000 (Tue, 04 Feb 2025) EndedAt: 2025-02-04 01:24:19 -0000 (Tue, 04 Feb 2025) EllapsedTime: 236.1 seconds RetCode: 0 Status: OK PackageFile: NADfinder_1.30.0.tar.gz PackageFileSize: 5.819 MiB