Package: NADfinder Version: 1.30.0 Command: /home/biocbuild/R/R/bin/R CMD INSTALL NADfinder StartedAt: 2025-02-10 20:59:56 -0000 (Mon, 10 Feb 2025) EndedAt: 2025-02-10 21:01:24 -0000 (Mon, 10 Feb 2025) EllapsedTime: 87.4 seconds RetCode: 0 Status: OK