Package: NBAMSeq Version: 1.22.0 Command: /Library/Frameworks/R.framework/Resources/bin/R CMD build --keep-empty-dirs --no-resave-data NBAMSeq StartedAt: 2025-02-10 20:50:32 -0500 (Mon, 10 Feb 2025) EndedAt: 2025-02-10 20:52:36 -0500 (Mon, 10 Feb 2025) EllapsedTime: 123.8 seconds RetCode: 0 Status: OK PackageFile: NBAMSeq_1.22.0.tar.gz PackageFileSize: 341.3 KiB