Package: NBAMSeq Version: 1.22.0 Command: /Library/Frameworks/R.framework/Resources/bin/R CMD INSTALL NBAMSeq StartedAt: 2025-02-03 16:22:02 -0500 (Mon, 03 Feb 2025) EndedAt: 2025-02-03 16:23:05 -0500 (Mon, 03 Feb 2025) EllapsedTime: 63.4 seconds RetCode: 0 Status: OK