Package: NCIgraph Version: 1.54.0 Command: /home/biocbuild/R/R/bin/R CMD build --keep-empty-dirs --no-resave-data NCIgraph StartedAt: 2025-02-04 01:22:13 -0000 (Tue, 04 Feb 2025) EndedAt: 2025-02-04 01:22:31 -0000 (Tue, 04 Feb 2025) EllapsedTime: 18.0 seconds RetCode: 0 Status: OK PackageFile: NCIgraph_1.54.0.tar.gz PackageFileSize: 197.9 KiB