Package: NOISeq Version: 2.50.0 Command: rm -rf NOISeq.buildbin-libdir && mkdir NOISeq.buildbin-libdir && /Users/biocbuild/BBS/utils/build-universal.sh NOISeq_2.50.0.tar.gz /Library/Frameworks/R.framework/Resources/bin/R NOISeq.buildbin-libdir StartedAt: 2025-02-05 16:57:42 -0500 (Wed, 05 Feb 2025) EndedAt: 2025-02-05 16:57:56 -0500 (Wed, 05 Feb 2025) EllapsedTime: 13.7 seconds RetCode: 0 Status: OK PackageFile: NOISeq_2.50.0.tgz PackageFileSize: 2.423 MiB