Package: NOISeq Version: 2.50.0 Command: /Library/Frameworks/R.framework/Resources/bin/R CMD build --keep-empty-dirs --no-resave-data NOISeq StartedAt: 2025-02-04 04:46:22 -0500 (Tue, 04 Feb 2025) EndedAt: 2025-02-04 04:47:40 -0500 (Tue, 04 Feb 2025) EllapsedTime: 77.3 seconds RetCode: 0 Status: OK PackageFile: NOISeq_2.50.0.tar.gz PackageFileSize: 2.057 MiB