Package: NOISeq Version: 2.50.0 Command: /Library/Frameworks/R.framework/Resources/bin/R CMD check --install=check:NOISeq.install-out.txt --library=/Library/Frameworks/R.framework/Resources/library --no-vignettes --timings NOISeq_2.50.0.tar.gz StartedAt: 2025-02-05 04:00:46 -0500 (Wed, 05 Feb 2025) EndedAt: 2025-02-05 04:02:41 -0500 (Wed, 05 Feb 2025) EllapsedTime: 114.9 seconds RetCode: 0 Status: OK CheckDir: NOISeq.Rcheck Warnings: 0