Package: NOISeq Version: 2.50.0 Command: /Library/Frameworks/R.framework/Resources/bin/R CMD INSTALL NOISeq StartedAt: 2025-02-03 15:11:10 -0500 (Mon, 03 Feb 2025) EndedAt: 2025-02-03 15:11:21 -0500 (Mon, 03 Feb 2025) EllapsedTime: 11.3 seconds RetCode: 0 Status: OK