Package: NOISeq Version: 2.50.0 Command: /Library/Frameworks/R.framework/Resources/bin/R CMD check --install=check:NOISeq.install-out.txt --library=/Library/Frameworks/R.framework/Resources/library --no-vignettes --timings NOISeq_2.50.0.tar.gz StartedAt: 2025-02-04 07:17:20 -0500 (Tue, 04 Feb 2025) EndedAt: 2025-02-04 07:20:43 -0500 (Tue, 04 Feb 2025) EllapsedTime: 203.5 seconds RetCode: 0 Status: OK CheckDir: NOISeq.Rcheck Warnings: 0