Package: NOISeq Version: 2.50.0 Command: /home/biocbuild/bbs-3.20-bioc/R/bin/R CMD check --install=check:NOISeq.install-out.txt --library=/home/biocbuild/bbs-3.20-bioc/R/site-library --timings NOISeq_2.50.0.tar.gz StartedAt: 2025-02-04 00:44:14 -0500 (Tue, 04 Feb 2025) EndedAt: 2025-02-04 00:46:20 -0500 (Tue, 04 Feb 2025) EllapsedTime: 126.1 seconds RetCode: 0 Status: OK CheckDir: NOISeq.Rcheck Warnings: 0