Package: NOISeq Version: 2.50.0 Command: F:\biocbuild\bbs-3.20-bioc\R\bin\R.exe CMD check --no-multiarch --install=check:NOISeq.install-out.txt --library=F:\biocbuild\bbs-3.20-bioc\R\library --no-vignettes --timings NOISeq_2.50.0.tar.gz StartedAt: 2025-02-04 04:26:09 -0500 (Tue, 04 Feb 2025) EndedAt: 2025-02-04 04:28:13 -0500 (Tue, 04 Feb 2025) EllapsedTime: 123.7 seconds RetCode: 0 Status: OK CheckDir: NOISeq.Rcheck Warnings: 0