Package: NOISeq Version: 2.50.0 Command: /home/biocbuild/R/R/bin/R CMD INSTALL NOISeq StartedAt: 2025-02-03 20:22:05 -0000 (Mon, 03 Feb 2025) EndedAt: 2025-02-03 20:22:21 -0000 (Mon, 03 Feb 2025) EllapsedTime: 15.8 seconds RetCode: 0 Status: OK