Package: NTW Version: 1.56.0 Command: /Library/Frameworks/R.framework/Resources/bin/R CMD build --keep-empty-dirs --no-resave-data NTW StartedAt: 2025-02-04 04:49:39 -0500 (Tue, 04 Feb 2025) EndedAt: 2025-02-04 04:49:55 -0500 (Tue, 04 Feb 2025) EllapsedTime: 16.0 seconds RetCode: 0 Status: OK PackageFile: NTW_1.56.0.tar.gz PackageFileSize: 872.1 KiB