Package: NTW Version: 1.56.0 Command: /Library/Frameworks/R.framework/Resources/bin/R CMD INSTALL NTW StartedAt: 2025-02-03 15:16:27 -0500 (Mon, 03 Feb 2025) EndedAt: 2025-02-03 15:16:30 -0500 (Mon, 03 Feb 2025) EllapsedTime: 3.7 seconds RetCode: 0 Status: OK