Package: NTW Version: 1.56.0 Command: /Library/Frameworks/R.framework/Resources/bin/R CMD INSTALL NTW StartedAt: 2024-11-08 15:13:55 -0500 (Fri, 08 Nov 2024) EndedAt: 2024-11-08 15:13:55 -0500 (Fri, 08 Nov 2024) EllapsedTime: 0.9 seconds RetCode: 0 Status: OK