Package: NTW Version: 1.56.0 Command: /Library/Frameworks/R.framework/Resources/bin/R CMD INSTALL NTW StartedAt: 2025-02-10 15:06:29 -0500 (Mon, 10 Feb 2025) EndedAt: 2025-02-10 15:06:39 -0500 (Mon, 10 Feb 2025) EllapsedTime: 9.3 seconds RetCode: 0 Status: OK