Package: NTW Version: 1.56.0 Command: rm -rf NTW.buildbin-libdir && mkdir NTW.buildbin-libdir && F:\biocbuild\bbs-3.20-bioc\R\bin\R.exe CMD INSTALL --build --library=NTW.buildbin-libdir NTW_1.56.0.tar.gz StartedAt: 2025-02-04 09:05:03 -0500 (Tue, 04 Feb 2025) EndedAt: 2025-02-04 09:05:08 -0500 (Tue, 04 Feb 2025) EllapsedTime: 5.8 seconds RetCode: 0 Status: OK PackageFile: NTW_1.56.0.zip PackageFileSize: 503.3 KiB