Package: NTW Version: 1.56.0 Command: /home/biocbuild/R/R/bin/R CMD build --keep-empty-dirs --no-resave-data NTW StartedAt: 2025-02-04 01:28:15 -0000 (Tue, 04 Feb 2025) EndedAt: 2025-02-04 01:28:34 -0000 (Tue, 04 Feb 2025) EllapsedTime: 19.0 seconds RetCode: 0 Status: OK PackageFile: NTW_1.56.0.tar.gz PackageFileSize: 859.9 KiB