Package: NanoMethViz Version: 3.2.0 Command: rm -rf NanoMethViz.buildbin-libdir && mkdir NanoMethViz.buildbin-libdir && /Users/biocbuild/BBS/utils/build-universal.sh NanoMethViz_3.2.0.tar.gz /Library/Frameworks/R.framework/Resources/bin/R NanoMethViz.buildbin-libdir StartedAt: 2025-02-12 16:08:30 -0500 (Wed, 12 Feb 2025) EndedAt: 2025-02-12 16:09:51 -0500 (Wed, 12 Feb 2025) EllapsedTime: 80.0 seconds RetCode: 0 Status: OK PackageFile: NanoMethViz_3.2.0.tgz PackageFileSize: 9.091 MiB