Package: NanoMethViz Version: 3.2.0 Command: /Library/Frameworks/R.framework/Resources/bin/R CMD build --keep-empty-dirs --no-resave-data NanoMethViz StartedAt: 2025-02-11 04:30:16 -0500 (Tue, 11 Feb 2025) EndedAt: 2025-02-11 04:33:39 -0500 (Tue, 11 Feb 2025) EllapsedTime: 203.3 seconds RetCode: 0 Status: OK PackageFile: NanoMethViz_3.2.0.tar.gz PackageFileSize: 8.398 MiB