Package: NanoMethViz Version: 3.2.0 Command: /Library/Frameworks/R.framework/Resources/bin/R CMD build --keep-empty-dirs --no-resave-data NanoMethViz StartedAt: 2025-02-03 20:47:51 -0500 (Mon, 03 Feb 2025) EndedAt: 2025-02-03 20:55:55 -0500 (Mon, 03 Feb 2025) EllapsedTime: 484.0 seconds RetCode: 0 Status: OK PackageFile: NanoMethViz_3.2.0.tar.gz PackageFileSize: 8.397 MiB