Package: NanoMethViz Version: 3.2.0 Command: /home/biocbuild/bbs-3.20-bioc/R/bin/R CMD check --install=check:NanoMethViz.install-out.txt --library=/home/biocbuild/bbs-3.20-bioc/R/site-library --timings NanoMethViz_3.2.0.tar.gz StartedAt: 2025-02-11 00:27:42 -0500 (Tue, 11 Feb 2025) EndedAt: 2025-02-11 00:38:59 -0500 (Tue, 11 Feb 2025) EllapsedTime: 676.7 seconds RetCode: 0 Status: OK CheckDir: NanoMethViz.Rcheck Warnings: 0