Package: NanoMethViz Version: 3.2.0 Command: rm -rf NanoMethViz.buildbin-libdir && mkdir NanoMethViz.buildbin-libdir && F:\biocbuild\bbs-3.20-bioc\R\bin\R.exe CMD INSTALL --build --library=NanoMethViz.buildbin-libdir NanoMethViz_3.2.0.tar.gz StartedAt: 2025-02-11 09:00:03 -0500 (Tue, 11 Feb 2025) EndedAt: 2025-02-11 09:02:23 -0500 (Tue, 11 Feb 2025) EllapsedTime: 140.5 seconds RetCode: 0 Status: OK PackageFile: NanoMethViz_3.2.0.zip PackageFileSize: 8.078 MiB